BEGIN:VCALENDAR
VERSION:2.0
PRODID:TU Chemnitz
METHOD:PUBLISH
X-WR-CALNAME:Veranstaltungen der TU Chemnitz
X-WR-TIMEZONE:Europe/Berlin
BEGIN:VEVENT
CLASS:PUBLIC
DTSTART;TZID="Europe/Berlin":19991118T170000
DTEND;TZID="Europe/Berlin":19991118T190000
LOCATION:Uni-Teil 3: Reichenhainer Str. 70\, Chemnitz (Zentr. Hörsaal- und Seminargebäude)
SUMMARY:Le Grand Meaulnes d'Alain-Fournier\, roman autobiographique (Philosophische Fakultät\, Romanische Kulturwissenschaft\, Prof. Ulrike Brummert\, docteur d'Etat)
DESCRIPTION:Prof. Dr. Bernard-Marie Garreau\, Université de Bretagne Sud
ORGANIZER:MAILTO:heze@hrz.tu-chemnitz.de
UID:855@www.tu-chemnitz.de
CREATED:19991111T100900Z
DTSTAMP:20210802T203257Z
END:VEVENT
END:VCALENDAR
