BEGIN:VCALENDAR
VERSION:2.0
PRODID:TU Chemnitz
METHOD:PUBLISH
X-WR-CALNAME:Veranstaltungen der TU Chemnitz
X-WR-TIMEZONE:Europe/Berlin
BEGIN:VEVENT
CLASS:PUBLIC
DTSTART;TZID="Europe/Berlin":20070627T171500
DTEND;TZID="Europe/Berlin":20070627T184500
LOCATION:Reichenhainer Str. 70\, Chemnitz (Rühlmann-Bau)
SUMMARY:Medientechnisches Kolloquium: Entwicklungstrends im Bogenoffset und daraus abgeleitete Anforderungen an die Bedruckstoffe (Fakultät für Maschinenbau\, Institut für Print- und Medientechnik)
DESCRIPTION:Dr. Uwe Tessmann\, Heidelberger Druckmaschinen AG\, Vice President Engineering and Services\nNicole Naumann\, 0371/531-36683
ORGANIZER:MAILTO:nicole.naumann@mb.tu-chemnitz.de
UID:8536@www.tu-chemnitz.de
CREATED:20070420T111000Z
DTSTAMP:20210802T194907Z
END:VEVENT
END:VCALENDAR
