BEGIN:VCALENDAR
VERSION:2.0
PRODID:TU Chemnitz
METHOD:PUBLISH
X-WR-CALNAME:Veranstaltungen der TU Chemnitz
X-WR-TIMEZONE:Europe/Berlin
BEGIN:VEVENT
CLASS:PUBLIC
DTSTART;TZID="Europe/Berlin":20070419T171500
DTEND;TZID="Europe/Berlin":20070419T184500
LOCATION:Reichenhainer Str. 39\, Chemnitz
SUMMARY:Sitzung des FSR Phil (Philosophische Fakultät\, FSR Phil)
DESCRIPTION:Ausführlicher Bericht aus dem Fakultätsrat. Abstimmung Kalkulation Sommerfest. Diskussion über die Neuss-Mail und die Reaktion darauf.\nGäste sind wie immer willkommen!\nFSR Phil\nfsrphil@tu-chemnitz.de
ORGANIZER:MAILTO:gens@hrz.tu-chemnitz.de
UID:8522@www.tu-chemnitz.de
CREATED:20070418T192500Z
DTSTAMP:20210802T195012Z
END:VEVENT
END:VCALENDAR
