BEGIN:VCALENDAR
VERSION:2.0
PRODID:TU Chemnitz
METHOD:PUBLISH
X-WR-CALNAME:Veranstaltungen der TU Chemnitz
X-WR-TIMEZONE:Europe/Berlin
BEGIN:VEVENT
CLASS:PUBLIC
DTSTART;TZID="Europe/Berlin":20070502T140000
DTEND;TZID="Europe/Berlin":20070502T153000
LOCATION: Schulungsraum der Zentralbibliothek\, Straße der Nationen\, Zimmer 221
SUMMARY:Datenbank des Monats Mai - Source OECD (Universitätsbibliothek)
DESCRIPTION:SourceOECD - die Online-Bibliothek aller Veröffentlichungen der Organisation for Economic Co-operation and Development (OECD) seit 1998. Besonders interessant der direkte Zugriff auf 23 statistische OECD-Datenbanken.  Herzlich willkommen!\nBarbara Winkler\, Fachreferentin\nBarbara Winkler\, 0371/531-31328
ORGANIZER:MAILTO:Annemarie.Kalugin@Bibliothek.TU-Chemnitz.DE
UID:8516@www.tu-chemnitz.de
CREATED:20070417T125100Z
DTSTAMP:20210802T194931Z
END:VEVENT
END:VCALENDAR
