BEGIN:VCALENDAR
VERSION:2.0
PRODID:TU Chemnitz
METHOD:PUBLISH
X-WR-CALNAME:Veranstaltungen der TU Chemnitz
X-WR-TIMEZONE:Europe/Berlin
BEGIN:VEVENT
CLASS:PUBLIC
DTSTART;TZID="Europe/Berlin":19980929T163000
DTEND;TZID="Europe/Berlin":19980929T180000
LOCATION:Uni-Teil 3: Reichenhainer Str. 70\, Chemnitz (Weinhold-Bau)
SUMMARY:"Gleichlaufregelung elastisch verkoppelter elektrischer Antriebe" (Fakultät für Elektrotechnik und Informationstechnik\, Professur Elektrische Maschinen und Antriebe)
DESCRIPTION:Prof. Dr. Ulrich Riefenstahl\, Universität Magdeburg\nDipl.-Ing. Marcus Ziegler\, Tel. (03 71)5 31-33 46
ORGANIZER:MAILTO:iroe@hrz.tu-chemnitz.de
UID:85@www.tu-chemnitz.de
CREATED:19980831T154100Z
DTSTAMP:20210802T203609Z
END:VEVENT
END:VCALENDAR
