BEGIN:VCALENDAR
VERSION:2.0
PRODID:TU Chemnitz
METHOD:PUBLISH
X-WR-CALNAME:Veranstaltungen der TU Chemnitz
X-WR-TIMEZONE:Europe/Berlin
BEGIN:VEVENT
CLASS:PUBLIC
DTSTART;TZID="Europe/Berlin":20070514T113000
DTEND;TZID="Europe/Berlin":20070514T153000
LOCATION:2/NK004
SUMMARY:Referieren (Philosophische Fakultät\, Germanistik)
DESCRIPTION:Wie erarbeite ich mir mein Referatsthema? Wie strukturiere ich den Vortrag? Wie kommuniziere ich mit den Zuhörern? In welcher Form und in welchem Umfang ist die Ergänzung durch andere Medien (Handouts\, Folien etc.) sinnvoll?\nDr. Wolfram Ette\nVorbesprechung: 26.04.2007 / Anmeldung über die Homepage des Schreibzentrums
ORGANIZER:MAILTO:andreas.monz@phil.tu-chemnitz.de
UID:8492@www.tu-chemnitz.de
CREATED:20070411T165600Z
DTSTAMP:20210802T194938Z
END:VEVENT
END:VCALENDAR
