BEGIN:VCALENDAR
VERSION:2.0
PRODID:TU Chemnitz
METHOD:PUBLISH
X-WR-CALNAME:Veranstaltungen der TU Chemnitz
X-WR-TIMEZONE:Europe/Berlin
BEGIN:VEVENT
CLASS:PUBLIC
DTSTART;TZID="Europe/Berlin":20070412T200000
DTEND;TZID="Europe/Berlin":20070412T235900
LOCATION:Vettersstr. 64/66\, Chemnitz (Studentenwohnheim)
SUMMARY:Semesterauftkakt
DESCRIPTION:Exkursionen\, Erfahrungsaustausch\, Seminare und Vorträge bei gleichzeitigen Ausgleich zum Studium nutzen\, - nur bei uns!\n\nErlebt eine Studentenverbindung im 21. Jahrhundert!\nwww.teutonenweb.de
ORGANIZER:MAILTO:witsm@hrz.tu-chemnitz.de
UID:8491@www.tu-chemnitz.de
CREATED:20070411T165500Z
DTSTAMP:20210802T195015Z
END:VEVENT
END:VCALENDAR
