BEGIN:VCALENDAR
VERSION:2.0
PRODID:TU Chemnitz
METHOD:PUBLISH
X-WR-CALNAME:Veranstaltungen der TU Chemnitz
X-WR-TIMEZONE:Europe/Berlin
BEGIN:VEVENT
CLASS:PUBLIC
DTSTART;TZID="Europe/Berlin":20070420T113000
DTEND;TZID="Europe/Berlin":20070420T173000
LOCATION:2/SR13
SUMMARY:Wissenschaftliches Arbeiten (Philosophische Fakultät\, Germanistik)
DESCRIPTION:Inhalte: wissenschaftliches Denken\, wissenschaftliche Arbeitsformen und Textsorten (Seminararbeit\, Exposé\, Exzerpt)\, Referieren und Präsentieren\, Themenfindung und -eingrenzung\, Recherchieren\, Strukturieren\, wissenschaftliches Schreiben etc.\nDr. Monika Hähnel\nAnmeldung über die Homepage des Schreibzentrums
ORGANIZER:MAILTO:andreas.monz@phil.tu-chemnitz.de
UID:8489@www.tu-chemnitz.de
CREATED:20070411T164800Z
DTSTAMP:20210802T195010Z
END:VEVENT
END:VCALENDAR
