BEGIN:VCALENDAR
VERSION:2.0
PRODID:TU Chemnitz
METHOD:PUBLISH
X-WR-CALNAME:Veranstaltungen der TU Chemnitz
X-WR-TIMEZONE:Europe/Berlin
BEGIN:VEVENT
CLASS:PUBLIC
DTSTART;TZID="Europe/Berlin":20070426T131500
DTEND;TZID="Europe/Berlin":20070426T144500
LOCATION:Str. der Nationen 62\, Chemnitz (Böttcher-Bau)
SUMMARY:Studieren in Australien und Neuseeland (Institut Ranke-Heinemann\, Internationales Universitätszentrum)
DESCRIPTION:Diese Info-Veranstaltung richtet sich an Studierende aller Fachrichtungen und behandelt alle Fragen rund um Vorbereitung und Durchfürhung eines Studienaufenthaltes in Australien bzw. Neuseeland.\nInstitut Ranke-Heinemann\ninfo@ranke-heinemann.de
ORGANIZER:MAILTO:sokrates-club@tu-chemnitz.de
UID:8480@www.tu-chemnitz.de
CREATED:20070410T132900Z
DTSTAMP:20210802T195017Z
END:VEVENT
END:VCALENDAR
