BEGIN:VCALENDAR
VERSION:2.0
PRODID:TU Chemnitz
METHOD:PUBLISH
X-WR-CALNAME:Veranstaltungen der TU Chemnitz
X-WR-TIMEZONE:Europe/Berlin
BEGIN:VEVENT
CLASS:PUBLIC
DTSTART;TZID="Europe/Berlin":20070417T220000
DTEND;TZID="Europe/Berlin":20070417T220000
LOCATION:Vettersstr. 70/72\, Chemnitz (Studentenwohnheim)
SUMMARY:> > > Ein Hirsch am Strand < < < (FPM-Club)
DESCRIPTION:Das wird wild. - \n\nJägermeister 4 cl nur 0\,50 Euro - mit Red Bull nur 2\,50 Euro - mit O-Saft nur 1\,50 Euro - \n\nLadys Only Special:\nSex on the Beach nur 2\,50 Euro - \n\nJägermeister-Promotion! - \n\nMusic: All Style mixed by Fouque -
ORGANIZER:MAILTO:hoga@hrz.tu-chemnitz.de
UID:8473@www.tu-chemnitz.de
CREATED:20070405T225100Z
DTSTAMP:20210802T195018Z
END:VEVENT
END:VCALENDAR
