BEGIN:VCALENDAR
VERSION:2.0
PRODID:TU Chemnitz
METHOD:PUBLISH
X-WR-CALNAME:Veranstaltungen der TU Chemnitz
X-WR-TIMEZONE:Europe/Berlin
BEGIN:VEVENT
CLASS:PUBLIC
DTSTART;TZID="Europe/Berlin":20070403T220000
DTEND;TZID="Europe/Berlin":20070403T220000
LOCATION:Vettersstr. 70/72\, Chemnitz (Studentenwohnheim)
SUMMARY:> > > Semester Warm Up < < < (FPM-Club)
DESCRIPTION:Der Start ins neue Partysemester. - \n\nHappy Hour die ganze Nacht: \nCuba Libre nur 1\,99 Euro - \nHeineken nur 1\,50 Euro -\n\nMusic: All Style mixed by Fouque
ORGANIZER:MAILTO:hoga@hrz.tu-chemnitz.de
UID:8436@www.tu-chemnitz.de
CREATED:20070401T234500Z
DTSTAMP:20210802T195016Z
END:VEVENT
END:VCALENDAR
