BEGIN:VCALENDAR
VERSION:2.0
PRODID:TU Chemnitz
METHOD:PUBLISH
X-WR-CALNAME:Veranstaltungen der TU Chemnitz
X-WR-TIMEZONE:Europe/Berlin
BEGIN:VEVENT
CLASS:PUBLIC
DTSTART;TZID="Europe/Berlin":20070510T140000
DTEND;TZID="Europe/Berlin":20070510T180000
LOCATION:Agentur für Arbeit Chemnitz\, Heinrich-Lorenz-Str. 20
SUMMARY:Zeitmanagement - Selbstmanagement (Agentur für Arbeit Chemnitz/Hochschulteam)
DESCRIPTION:Effektiver Umgang mit den persönlichen Zeitressourcen\, mit Möglichkeit eines Feedbackteils an einem Folgetag\nFrau Schult\, MLP\nAnmeldung unter: Chemnitz.Hochschulteam@arbeitsagentur.de
ORGANIZER:MAILTO:evelin.haeusler@verwaltung.tu-chemnitz.de
UID:8425@www.tu-chemnitz.de
CREATED:20070330T122100Z
DTSTAMP:20210802T194936Z
END:VEVENT
END:VCALENDAR
