BEGIN:VCALENDAR
VERSION:2.0
PRODID:TU Chemnitz
METHOD:PUBLISH
X-WR-CALNAME:Veranstaltungen der TU Chemnitz
X-WR-TIMEZONE:Europe/Berlin
BEGIN:VEVENT
CLASS:PUBLIC
DTSTART;TZID="Europe/Berlin":20070505T103000
DTEND;TZID="Europe/Berlin":20070505T113000
LOCATION:Str. der Nationen 62\, Chemnitz (Böttcher-Bau)
SUMMARY:Dokumenten- und Publikationsservice der TUC MONARCH (Universitätsbibliothek)
DESCRIPTION:Ute Blumtritt\, Universitätsbibliothek\nAnmeldung unbedingt erforderlich!
ORGANIZER:MAILTO:sigo@hrz.tu-chemnitz.de
UID:8415@www.tu-chemnitz.de
CREATED:20070328T185400Z
DTSTAMP:20210802T194936Z
END:VEVENT
END:VCALENDAR
