BEGIN:VCALENDAR
VERSION:2.0
PRODID:TU Chemnitz
METHOD:PUBLISH
X-WR-CALNAME:Veranstaltungen der TU Chemnitz
X-WR-TIMEZONE:Europe/Berlin
BEGIN:VEVENT
CLASS:PUBLIC
DTSTART;TZID="Europe/Berlin":20070413T100000
DTEND;TZID="Europe/Berlin":20070413T170000
LOCATION:Str. der Nationen 62\, Chemnitz (Altes Heizhaus)
SUMMARY:1. Tschechischer Alumni-Tag an der TU Chemnitz (TU Chemnitz\, Sächs.-Tschech. Hochschulkolleg)
DESCRIPTION:erstes Treffen ehemaliger Studierender der TU Chemnitz aus Tschechien im Rahmen des Interreg-Projektes Sächsisch-Tschechisches Hochschulkolleg\nverschiedene\nIlona Scherm\, 0371-531 34503\, scherm@hrz.tu-chemnitz.de
ORGANIZER:MAILTO:scherm@hrz.tu-chemnitz.de
UID:8376@www.tu-chemnitz.de
CREATED:20070328T143900Z
DTSTAMP:20210802T195014Z
END:VEVENT
END:VCALENDAR
