BEGIN:VCALENDAR
VERSION:2.0
PRODID:TU Chemnitz
METHOD:PUBLISH
X-WR-CALNAME:Veranstaltungen der TU Chemnitz
X-WR-TIMEZONE:Europe/Berlin
BEGIN:VEVENT
CLASS:PUBLIC
DTSTART;TZID="Europe/Berlin":20070426T200000
DTEND;TZID="Europe/Berlin":20070427T020000
LOCATION:Club der Kulturen (Kompass)
SUMMARY:Life in Concert: K.C. McKanzie (Radio Unicc @ CdK)
DESCRIPTION:In einem Mix aus Folkmusik und Bluegrass präsentiert die Sängerin und Gitarristin K.C. McKanzie authentische Stücke. Die musikalische Untermalung übernimmt ihr Pendant Joe Budinsky. Support: Herr Rüdiger\, Bernsdorf DJ-equipe\, Eintritt: 2 €
ORGANIZER:MAILTO:isabel.knoch@s2004.tu-chemnitz.de
UID:8372@www.tu-chemnitz.de
CREATED:20070328T095400Z
DTSTAMP:20210802T195021Z
END:VEVENT
END:VCALENDAR
