BEGIN:VCALENDAR
VERSION:2.0
PRODID:TU Chemnitz
METHOD:PUBLISH
X-WR-CALNAME:Veranstaltungen der TU Chemnitz
X-WR-TIMEZONE:Europe/Berlin
BEGIN:VEVENT
CLASS:PUBLIC
DTSTART;TZID="Europe/Berlin":20070314T180000
DTEND;TZID="Europe/Berlin":20070314T235900
LOCATION:Reichenhainer Str. 55\, Chemnitz (Mensa)
SUMMARY:UEFA Pokal im TaC
DESCRIPTION:ab 18 Uhr live Leverkusen gegen Lens und im Anschluß \nWerder Bremen gegen Celta Vigo
ORGANIZER:MAILTO:piek@hrz.tu-chemnitz.de
UID:8325@www.tu-chemnitz.de
CREATED:20070311T135900Z
DTSTAMP:20210802T195038Z
END:VEVENT
END:VCALENDAR
