BEGIN:VCALENDAR
VERSION:2.0
PRODID:TU Chemnitz
METHOD:PUBLISH
X-WR-CALNAME:Veranstaltungen der TU Chemnitz
X-WR-TIMEZONE:Europe/Berlin
BEGIN:VEVENT
CLASS:PUBLIC
DTSTART;TZID="Europe/Berlin":20070309T083000
DTEND;TZID="Europe/Berlin":20070309T180000
LOCATION:GÜNNEWIG Hotel Chemnitzer Hof
SUMMARY:Bautechnik-Forum Chemnitz 2007 (TU Chemnitz\, AKS/IKS)
DESCRIPTION:Die Beiträge zum BtF 2007 zeigen unter dem Blickwinkel "Energieeinsparung" und "Energieeffizienz"\, wie unter Berücksichtigung der Energieeinsparung mit Fokus auf Wirtschaftlichkeit geplant\, saniert und neu gebaut werden kann. http://www.bautechnikforum.de\nhttp://www.bautechnikforum.de/
ORGANIZER:MAILTO:sandra.gelbrich@mb.tu-chemnitz.de
UID:8322@www.tu-chemnitz.de
CREATED:20070308T085600Z
DTSTAMP:20210802T195043Z
END:VEVENT
END:VCALENDAR
