BEGIN:VCALENDAR
VERSION:2.0
PRODID:TU Chemnitz
METHOD:PUBLISH
X-WR-CALNAME:Veranstaltungen der TU Chemnitz
X-WR-TIMEZONE:Europe/Berlin
BEGIN:VEVENT
CLASS:PUBLIC
DTSTART;TZID="Europe/Berlin":20070427T140000
DTEND;TZID="Europe/Berlin":20070427T140000
LOCATION:Reichenhainer Str. 70\, Chemnitz (Rühlmann-Bau)
SUMMARY:Promotion (Fakultät für Maschinenbau)
DESCRIPTION:Ein Beitrag zur statischen Aeroelastik des Windkraftanlagenrotorblattes\nDipl.-Ing. Armin Fazlollah Khadjavi
ORGANIZER:MAILTO:kerstin.hensel@mb.tu-chemnitz.de
UID:8303@www.tu-chemnitz.de
CREATED:20070301T100800Z
DTSTAMP:20210802T195017Z
END:VEVENT
END:VCALENDAR
