BEGIN:VCALENDAR
VERSION:2.0
PRODID:TU Chemnitz
METHOD:PUBLISH
X-WR-CALNAME:Veranstaltungen der TU Chemnitz
X-WR-TIMEZONE:Europe/Berlin
BEGIN:VEVENT
CLASS:PUBLIC
DTSTART;TZID="Europe/Berlin":20070227T083000
DTEND;TZID="Europe/Berlin":20070227T133000
LOCATION:Reichenhainer Str. 70\, Chemnitz (Weinhold-Bau)
SUMMARY:Latein I (Philosophische Fakultät)
DESCRIPTION:Der Kurs Latein I für Germanisten (BA) beginnt am Dienstag\, den 26.02.2007\, um 8: 30 Uhr in HS (Hörsaal) 21 (Weinholdbau).\n\nB.Müller\nB. Müller
ORGANIZER:MAILTO:suad@hrz.tu-chemnitz.de
UID:8297@www.tu-chemnitz.de
CREATED:20070226T142200Z
DTSTAMP:20210802T195101Z
END:VEVENT
END:VCALENDAR
