BEGIN:VCALENDAR
VERSION:2.0
PRODID:TU Chemnitz
METHOD:PUBLISH
X-WR-CALNAME:Veranstaltungen der TU Chemnitz
X-WR-TIMEZONE:Europe/Berlin
BEGIN:VEVENT
CLASS:PUBLIC
DTSTART;TZID="Europe/Berlin":20070412T164000
DTEND;TZID="Europe/Berlin":20070412T172000
LOCATION:Str. der Nationen 62\, Chemnitz (Altes Heizhaus)
SUMMARY:Funktionale\, nichtkonventionelle Flüssigkristalle – Design und Synthese von neuen selbstorganisierenden weichen Materialien (Antrittsvorlesung) (Institut für Chemie zusammen mit der Gesellschaft Deutscher Chemiker (GDCh))
DESCRIPTION:Juniorprofessor Dr. Matthias Lehmann\, Technische Universität Chemnitz\nJuniorprofessor Dr. Matthias Lehmann\, Tel. 0371 531 31205\, Matthias.Lehmann@chemie.tu-chemnitz.de
ORGANIZER:MAILTO:Matthias.Lehmann@chemie.tu-chemnitz.de
UID:8290@www.tu-chemnitz.de
CREATED:20070222T175400Z
DTSTAMP:20210802T195018Z
END:VEVENT
END:VCALENDAR
