BEGIN:VCALENDAR
VERSION:2.0
PRODID:TU Chemnitz
METHOD:PUBLISH
X-WR-CALNAME:Veranstaltungen der TU Chemnitz
X-WR-TIMEZONE:Europe/Berlin
BEGIN:VEVENT
CLASS:PUBLIC
DTSTART;TZID="Europe/Berlin":20070228T193000
DTEND;TZID="Europe/Berlin":20070228T235900
LOCATION:Reichenhainer Str. 41\, Chemnitz
SUMMARY:DFB - Pokal Viertelfinale
DESCRIPTION:Heute live die Begegnung VFB Stuttgart gegen Hertha BSC
ORGANIZER:MAILTO:piek@hrz.tu-chemnitz.de
UID:8283@www.tu-chemnitz.de
CREATED:20070220T180400Z
DTSTAMP:20210802T195058Z
END:VEVENT
END:VCALENDAR
