BEGIN:VCALENDAR
VERSION:2.0
PRODID:TU Chemnitz
METHOD:PUBLISH
X-WR-CALNAME:Veranstaltungen der TU Chemnitz
X-WR-TIMEZONE:Europe/Berlin
BEGIN:VEVENT
CLASS:PUBLIC
DTSTART;TZID="Europe/Berlin":20070225T170000
DTEND;TZID="Europe/Berlin":20070225T200000
LOCATION:Reichenhainer Str. 55\, Chemnitz (Mensa)
SUMMARY:Bundesligakonferenz
DESCRIPTION:der Kampf um die Meisterschaft Teil drei...\nin Konferenz Gladbach gegen Bremen und Schalke gegen Leverkusen
ORGANIZER:MAILTO:piek@hrz.tu-chemnitz.de
UID:8275@www.tu-chemnitz.de
CREATED:20070218T114700Z
DTSTAMP:20210802T195057Z
END:VEVENT
END:VCALENDAR
