BEGIN:VCALENDAR
VERSION:2.0
PRODID:TU Chemnitz
METHOD:PUBLISH
X-WR-CALNAME:Veranstaltungen der TU Chemnitz
X-WR-TIMEZONE:Europe/Berlin
BEGIN:VEVENT
CLASS:PUBLIC
DTSTART;TZID="Europe/Berlin":20070507T090000
DTEND;TZID="Europe/Berlin":20070507T161500
LOCATION:Reichenhainer Str. 90\, Chemnitz (Zentr. Hörsaal- und Seminargebäude)
SUMMARY:Grenzen des Wachstums: Konflikte um schwindende Rohstoffreserven; 5. Chemnitzer Symposium "Europa und Umwelt" (Fakultät für Wirtschaftswissenschaften\, Prof. Dr. K.D. John\, Juniorprof. Dr. Dirk Rübbelke)
DESCRIPTION:Ziel des kommenden Symposiums wird es sein\, die Gefahren der weltweiten Verknappung der Rohstoffe für Europa aufzuzeigen.\nProf. em. Dr. Malte Faber\, Prof. Dr. Wolf Fichtner\, Dr. Ulf Moslener und Prof. Dr. Andreas Suchanek\nJuniorprof. Dr. D. Rübbelke\, 037153134212\, dru@hrz.tu-chemnitz.de
ORGANIZER:MAILTO:dru@hrz.tu-chemnitz.de
UID:8269@www.tu-chemnitz.de
CREATED:20070215T170100Z
DTSTAMP:20210802T194933Z
END:VEVENT
END:VCALENDAR
