BEGIN:VCALENDAR
VERSION:2.0
PRODID:TU Chemnitz
METHOD:PUBLISH
X-WR-CALNAME:Veranstaltungen der TU Chemnitz
X-WR-TIMEZONE:Europe/Berlin
BEGIN:VEVENT
CLASS:PUBLIC
DTSTART;TZID="Europe/Berlin":20070325T170000
DTEND;TZID="Europe/Berlin":20070325T183000
LOCATION:Kreuzkirche Dresden
SUMMARY:Benefizkonzert in der Kreuzkirche Dresden (Motettenchor und Collegium musicum der TU Chemnitz)
DESCRIPTION:Programm: Mozart: Ave verum; Beethoven: Messe C-Dur
ORGANIZER:MAILTO:meh@hrz
UID:8264@www.tu-chemnitz.de
CREATED:20070213T084300Z
DTSTAMP:20210802T195046Z
END:VEVENT
END:VCALENDAR
