BEGIN:VCALENDAR
VERSION:2.0
PRODID:TU Chemnitz
METHOD:PUBLISH
X-WR-CALNAME:Veranstaltungen der TU Chemnitz
X-WR-TIMEZONE:Europe/Berlin
BEGIN:VEVENT
CLASS:PUBLIC
DTSTART;TZID="Europe/Berlin":20070216T190000
DTEND;TZID="Europe/Berlin":20070217T020000
LOCATION:Reichenhainer Str. 55\, Chemnitz (Mensa)
SUMMARY:erster Einsiedler Poker und Skat Abend
DESCRIPTION:Qualifikation zur deutschen Meisterschaft im Skat.\nProfessionelle Unterstützung durch den Verein Nichtraucherasse e.V.\nDazu die Möglichkeit zu pokern Tische und Spiechips werden gestellt
ORGANIZER:MAILTO:piek@hrz.tu-chemnitz.de
UID:8258@www.tu-chemnitz.de
CREATED:20070212T123200Z
DTSTAMP:20210802T195057Z
END:VEVENT
END:VCALENDAR
