BEGIN:VCALENDAR
VERSION:2.0
PRODID:TU Chemnitz
METHOD:PUBLISH
X-WR-CALNAME:Veranstaltungen der TU Chemnitz
X-WR-TIMEZONE:Europe/Berlin
BEGIN:VEVENT
CLASS:PUBLIC
DTSTART;TZID="Europe/Berlin":20000119T170000
DTEND;TZID="Europe/Berlin":20000119T183000
LOCATION:Uni-Teil 3: Reichenhainer Str. 70\, Chemnitz (Zentr. Hörsaal- und Seminargebäude)
SUMMARY:"Composite Fermions" in Quantenhallsystemen nahe halber Füllung: klassischer Transport im Zufallsmagnetfeld (Fakultät für Naturwissenschaften\, Institut für Physik)
DESCRIPTION:Physikalisches Kolloquium\nProf. Dr. Peter Wölfle\, Universität Karlsruhe\nProf. Dr. Michael Schreiber\, Tel. 5313142
ORGANIZER:MAILTO:flei@hrz.tu-chemnitz.de
UID:824@www.tu-chemnitz.de
CREATED:19991104T111600Z
DTSTAMP:20210802T203237Z
END:VEVENT
END:VCALENDAR
