BEGIN:VCALENDAR
VERSION:2.0
PRODID:TU Chemnitz
METHOD:PUBLISH
X-WR-CALNAME:Veranstaltungen der TU Chemnitz
X-WR-TIMEZONE:Europe/Berlin
BEGIN:VEVENT
CLASS:PUBLIC
DTSTART;TZID="Europe/Berlin":20070311T100000
DTEND;TZID="Europe/Berlin":20070311T160000
LOCATION:Reichenhainer Str. 90\, Chemnitz (Zentr. Hörsaal- und Seminargebäude)
SUMMARY:Mikrowelten - Zukunftswelten: Eine Reise in die Mikrosystemtechnik (Fakultät für Maschinenbau\, CreativCenter Chemnitz)
DESCRIPTION:Anhand von Texttafeln\, Exponaten und Filmen werden verschiedene Alltagsanwendungen der Mikrosystemtechniken gezeigt. Eintritt frei\n10:00-10:45 Uhr Vortrag Dr. Ramona Ecke "Mikroelektronik gestern und heute"\nKatja Wagner\, 0371/531-32918\, katja.wagner@mb.tu-chemnitz.de
ORGANIZER:MAILTO:katja.wagner@mb.tu-chemnitz.de
UID:8231@www.tu-chemnitz.de
CREATED:20070206T130100Z
DTSTAMP:20210802T195038Z
END:VEVENT
END:VCALENDAR
