BEGIN:VCALENDAR
VERSION:2.0
PRODID:TU Chemnitz
METHOD:PUBLISH
X-WR-CALNAME:Veranstaltungen der TU Chemnitz
X-WR-TIMEZONE:Europe/Berlin
BEGIN:VEVENT
CLASS:PUBLIC
DTSTART;TZID="Europe/Berlin":20070304T100000
DTEND;TZID="Europe/Berlin":20070304T160000
LOCATION:Reichenhainer Str. 90\, Chemnitz (Zentr. Hörsaal- und Seminargebäude)
SUMMARY:Mikrowelten - Zukunftswelten: Eine Reise in die Mikrosystemtechnik (Fakultät für Maschinenbau\, CreativCenter Chemnitz)
DESCRIPTION:Ausstellung: Mikrowelten - Zukunftswelten: Eine Reise in die   Mikrosystemtechnik\nInteraktive multimediale Ausstellung winziger Bauteile u. konzentrierter Funktionalität. Eintritt: frei\nKatja Wagner\, 0371/531-32918\, katja.wagner@mb.tu-chemnitz.de
ORGANIZER:MAILTO:katja.wagner@mb.tu-chemnitz.de
UID:8228@www.tu-chemnitz.de
CREATED:20070206T124200Z
DTSTAMP:20210802T195046Z
END:VEVENT
END:VCALENDAR
