BEGIN:VCALENDAR
VERSION:2.0
PRODID:TU Chemnitz
METHOD:PUBLISH
X-WR-CALNAME:Veranstaltungen der TU Chemnitz
X-WR-TIMEZONE:Europe/Berlin
BEGIN:VEVENT
CLASS:PUBLIC
DTSTART;TZID="Europe/Berlin":20070202T193000
DTEND;TZID="Europe/Berlin":20070202T220000
LOCATION:Reichenhainer Str. 55\, Chemnitz (Mensa)
SUMMARY:Fussball Bundesliga
DESCRIPTION:Heute live Nürnberg gegen Bayern München
ORGANIZER:MAILTO:piek@hrz.tu-chemnitz.de
UID:8209@www.tu-chemnitz.de
CREATED:20070130T134900Z
DTSTAMP:20210802T195058Z
END:VEVENT
END:VCALENDAR
