BEGIN:VCALENDAR
VERSION:2.0
PRODID:TU Chemnitz
METHOD:PUBLISH
X-WR-CALNAME:Veranstaltungen der TU Chemnitz
X-WR-TIMEZONE:Europe/Berlin
BEGIN:VEVENT
CLASS:PUBLIC
DTSTART;TZID="Europe/Berlin":20070201T190000
DTEND;TZID="Europe/Berlin":20070201T230000
LOCATION:Reichenhainer Str. 55\, Chemnitz (Mensa)
SUMMARY:Diavortrag Kamtschatka
DESCRIPTION:Steffen Graupner Live Diashow in Überblendprojektion\, ca. 100min
ORGANIZER:MAILTO:piek@hrz.tu-chemnitz.de
UID:8207@www.tu-chemnitz.de
CREATED:20070130T134500Z
DTSTAMP:20210802T195104Z
END:VEVENT
END:VCALENDAR
