BEGIN:VCALENDAR
VERSION:2.0
PRODID:TU Chemnitz
METHOD:PUBLISH
X-WR-CALNAME:Veranstaltungen der TU Chemnitz
X-WR-TIMEZONE:Europe/Berlin
BEGIN:VEVENT
CLASS:PUBLIC
DTSTART;TZID="Europe/Berlin":20071024T093000
DTEND;TZID="Europe/Berlin":20071025T163000
LOCATION:Veranstaltungszentrum FORUM Chemnitz\, Eingang Mühlenstraße
SUMMARY:11. Chemnitzer Textiltechnik-Tagung (IMK\, SLB\, Cetex\, vti\, stfi)
DESCRIPTION:Maschinen\, Verfahren\, Faserverbundanwendungen
ORGANIZER:MAILTO:peter.meynerts@mb.tu-chemnitz.de
UID:8204@www.tu-chemnitz.de
CREATED:20070126T132100Z
DTSTAMP:20210802T194720Z
END:VEVENT
END:VCALENDAR
