BEGIN:VCALENDAR
VERSION:2.0
PRODID:TU Chemnitz
METHOD:PUBLISH
X-WR-CALNAME:Veranstaltungen der TU Chemnitz
X-WR-TIMEZONE:Europe/Berlin
BEGIN:VEVENT
CLASS:PUBLIC
DTSTART;TZID="Europe/Berlin":20070206T090000
DTEND;TZID="Europe/Berlin":20070206T153000
LOCATION:Str. der Nationen 62\, Chemnitz (Böttcher-Bau)
SUMMARY:20. Stöckhardt-Wettbewerb (Fakultät für Naturwissenschaften\, Institut für Chemie)
DESCRIPTION:Teilnehmer am 20. Chemnitzer Chemiewettbewerb "Julius Adolph Stöckhardt" sind die besten Schülerinnen und Schüler der Gymnasien der Regionalschulbezirke Chemnitz und Zwickau (Anmeldung erfolgt über die Gymnasien).
ORGANIZER:MAILTO:jutta.ruder@chemie.tu-chemnitz.de
UID:8203@www.tu-chemnitz.de
CREATED:20070125T150200Z
DTSTAMP:20210802T195100Z
END:VEVENT
END:VCALENDAR
