BEGIN:VCALENDAR
VERSION:2.0
PRODID:TU Chemnitz
METHOD:PUBLISH
X-WR-CALNAME:Veranstaltungen der TU Chemnitz
X-WR-TIMEZONE:Europe/Berlin
BEGIN:VEVENT
CLASS:PUBLIC
DTSTART;TZID="Europe/Berlin":19991123T160000
DTEND;TZID="Europe/Berlin":19991123T180000
LOCATION:Uni-Teil 3: Reichenhainer Str. 70\, Chemnitz (Zentr. Hörsaal- und Seminargebäude)
SUMMARY:Mikrophasen in modernen Kunstoffen (Fakultät für Naturwissenschaften\, Institut für Chemie gemeinsam mit der Kunststofftechnik und dem Maschinenbau)
DESCRIPTION:Dr.-Ing. Götz P. Hellmann\, Deutsches Kunststoff-Institut Darmstadt\nProf. Dr. St. Spange\, Tel.:0371 531 1336\, Fax: 0371 531 1642\, e-mail: stefan.spange@chemie.tu-chemnitz.de
ORGANIZER:MAILTO:erah@hrz.tu-chemnitz.de
UID:820@www.tu-chemnitz.de
CREATED:19991104T083000Z
DTSTAMP:20210802T203257Z
END:VEVENT
END:VCALENDAR
