BEGIN:VCALENDAR
VERSION:2.0
PRODID:TU Chemnitz
METHOD:PUBLISH
X-WR-CALNAME:Veranstaltungen der TU Chemnitz
X-WR-TIMEZONE:Europe/Berlin
BEGIN:VEVENT
CLASS:PUBLIC
DTSTART;TZID="Europe/Berlin":20070125T160000
DTEND;TZID="Europe/Berlin":20070125T173000
LOCATION:Reichenhainer Str. 90\, Chemnitz (Zentr. Hörsaal- und Seminargebäude)
SUMMARY:Abschiedsvorlesung von Herrn Prof. Dr. rer. nat. habil. Bernd Silbermann (Fakultät für Mathematik)
DESCRIPTION:
ORGANIZER:MAILTO:matt@mathematik.tu-chemnitz.de
UID:8193@www.tu-chemnitz.de
CREATED:20070124T105600Z
DTSTAMP:20210802T195117Z
END:VEVENT
END:VCALENDAR
