BEGIN:VCALENDAR
VERSION:2.0
PRODID:TU Chemnitz
METHOD:PUBLISH
X-WR-CALNAME:Veranstaltungen der TU Chemnitz
X-WR-TIMEZONE:Europe/Berlin
BEGIN:VEVENT
CLASS:PUBLIC
DTSTART;TZID="Europe/Berlin":20070125T210000
DTEND;TZID="Europe/Berlin":20070125T235900
LOCATION:Kino\, Reichenhainer Str. 35/37\, Keller
SUMMARY:[Kino * "mittendrin"] Der letzte Zug (Filmclub »mittendrin«)
DESCRIPTION:1943. Berlin soll "judenfrei" werden. Vilsmaiers Film über die Menschen in den Viehwaggons nach Auschwitz. Ob jung ob alt\, Akademiker\, Künstler oder Boxer - das spielt keine Rolle.\nManchmal muss Kino weh tun. Das ist nicht populär\, aber gut so!
ORGANIZER:MAILTO:schneide@hrz.tu-chemnitz.de
UID:8183@www.tu-chemnitz.de
CREATED:20070119T143800Z
DTSTAMP:20210802T195113Z
END:VEVENT
END:VCALENDAR
