BEGIN:VCALENDAR
VERSION:2.0
PRODID:TU Chemnitz
METHOD:PUBLISH
X-WR-CALNAME:Veranstaltungen der TU Chemnitz
X-WR-TIMEZONE:Europe/Berlin
BEGIN:VEVENT
CLASS:PUBLIC
DTSTART;TZID="Europe/Berlin":20070119T150000
DTEND;TZID="Europe/Berlin":20070119T160000
LOCATION:Str. der Nationen 62\, Chemnitz (Böttcher-Bau)
SUMMARY:Informatik-Kolloquium (Fakultät für Informatik)
DESCRIPTION:"Machine Color Vision"\nHerr Dr. M. Ebner
ORGANIZER:MAILTO:dekanat@informatik.tu-chemnitz.de
UID:8173@www.tu-chemnitz.de
CREATED:20070117T070000Z
DTSTAMP:20210802T195118Z
END:VEVENT
END:VCALENDAR
