BEGIN:VCALENDAR
VERSION:2.0
PRODID:TU Chemnitz
METHOD:PUBLISH
X-WR-CALNAME:Veranstaltungen der TU Chemnitz
X-WR-TIMEZONE:Europe/Berlin
BEGIN:VEVENT
CLASS:PUBLIC
DTSTART;TZID="Europe/Berlin":20070119T080000
DTEND;TZID="Europe/Berlin":20070119T090000
LOCATION:Str. der Nationen 62\, Chemnitz (Böttcher-Bau)
SUMMARY:Informatik-Kolloquium (Fakultät für Informatik)
DESCRIPTION:"Machine Learning Techniken zur Bildverarbeitung in der Pflanzenbioinformatik"\nHerr Dr. U. Seiffert
ORGANIZER:MAILTO:dekanat@informatik.tu-chemnitz.de
UID:8170@www.tu-chemnitz.de
CREATED:20070117T065600Z
DTSTAMP:20210802T195109Z
END:VEVENT
END:VCALENDAR
