BEGIN:VCALENDAR
VERSION:2.0
PRODID:TU Chemnitz
METHOD:PUBLISH
X-WR-CALNAME:Veranstaltungen der TU Chemnitz
X-WR-TIMEZONE:Europe/Berlin
BEGIN:VEVENT
CLASS:PUBLIC
DTSTART;TZID="Europe/Berlin":20070201T200000
DTEND;TZID="Europe/Berlin":20070201T220000
LOCATION:Str. der Nationen 62\, Chemnitz (Böttcher-Bau)
SUMMARY:AgricolaFORUM - Masken des Bösen (TU Chemnitz)
DESCRIPTION:Das Böse ist allgegenwärtig. Was ist das Wesen des Bösen\, wie werden Probleme gelöst\, sind menschliche Schuld und Sünde Kern des Bösen? Gibt es ein Drama der Freiheit? Und gehört das Böse als Preis der Freiheit mitten hinein?\nProf. Dr. Hermann Häring\, Tübingen
ORGANIZER:MAILTO:Friedrich.Naumann@phil.tu-chemnitz.de
UID:8168@www.tu-chemnitz.de
CREATED:20070116T173200Z
DTSTAMP:20210802T195055Z
END:VEVENT
END:VCALENDAR
