BEGIN:VCALENDAR
VERSION:2.0
PRODID:TU Chemnitz
METHOD:PUBLISH
X-WR-CALNAME:Veranstaltungen der TU Chemnitz
X-WR-TIMEZONE:Europe/Berlin
BEGIN:VEVENT
CLASS:PUBLIC
DTSTART;TZID="Europe/Berlin":20070116T193000
DTEND;TZID="Europe/Berlin":20070116T235900
LOCATION:Reichenhainer Str. 55\, Chemnitz (Mensa)
SUMMARY:Dart-Meisterschaft + 99er Kneipe
DESCRIPTION:Gesucht: Campus-Dart-Meister. Anmeldung im TaC.\nUnd dazu gibt es unsere 99er Kneipe...\nGetränkespecials: Einsiedler 0\,33l · gr. Faßbier · Sternquell Lemon zu je 99 Cent
ORGANIZER:MAILTO:elix@hrz.tu-chemnitz.de
UID:8166@www.tu-chemnitz.de
CREATED:20070116T111700Z
DTSTAMP:20210802T195117Z
END:VEVENT
END:VCALENDAR
