BEGIN:VCALENDAR
VERSION:2.0
PRODID:TU Chemnitz
METHOD:PUBLISH
X-WR-CALNAME:Veranstaltungen der TU Chemnitz
X-WR-TIMEZONE:Europe/Berlin
BEGIN:VEVENT
CLASS:PUBLIC
DTSTART;TZID="Europe/Berlin":19991124T190000
DTEND;TZID="Europe/Berlin":19991124T190000
LOCATION:Uni-Teil 9: Wilhelm-Raabe-Str. 43\, Chemnitz
SUMMARY:Zeitgenössische Hausmusik (Philosophische Fakultät\, Professur Instrumentalmusik II)
DESCRIPTION:Familie Hecker aus Kirchberg/ Sa. musiziert Kompositionen von Martin Hecker\, Jürgen Golle \, Thomas Richter\nDipl.-Lehrerin K. Kebsch\, Tel. 0371-531-6382
ORGANIZER:MAILTO:karla.kebsch@phil.tu-chemnitz.de
UID:816@www.tu-chemnitz.de
CREATED:19991103T120000Z
DTSTAMP:20210802T203256Z
END:VEVENT
END:VCALENDAR
