BEGIN:VCALENDAR
VERSION:2.0
PRODID:TU Chemnitz
METHOD:PUBLISH
X-WR-CALNAME:Veranstaltungen der TU Chemnitz
X-WR-TIMEZONE:Europe/Berlin
BEGIN:VEVENT
CLASS:PUBLIC
DTSTART;TZID="Europe/Berlin":20070222T153000
DTEND;TZID="Europe/Berlin":20070222T170000
LOCATION:Reichenhainer Str. 90\, Chemnitz (Zentr. Hörsaal- und Seminargebäude)
SUMMARY:High-Energy Ion Implantation - Science and Technology (Fakultät für Elektrotechnik und Informationstechnik\, Zentrum für Mikrotechnologien / Internationales Graduiertenkolleg)
DESCRIPTION:As an introduction the physics of ion/matter interaction and some practical issues will be discussed. Besides the standard low-energy implantation several applications for high energetic light and heavy ions (> 1MeV) have been developed.\nDipl.-Phys. Jan N. Klug\, Ruhr-Universität Bochum\, Dynamitron-Tandem-Laboratorium\nDr. Seckel\, 0371-531 33261\, wolfgang.seckel@zfm.tu-chemnitz.de
ORGANIZER:MAILTO:wolfgang.seckel@zfm.tu-chemnitz.de
UID:8156@www.tu-chemnitz.de
CREATED:20070112T110500Z
DTSTAMP:20210802T195055Z
END:VEVENT
END:VCALENDAR
