BEGIN:VCALENDAR
VERSION:2.0
PRODID:TU Chemnitz
METHOD:PUBLISH
X-WR-CALNAME:Veranstaltungen der TU Chemnitz
X-WR-TIMEZONE:Europe/Berlin
BEGIN:VEVENT
CLASS:PUBLIC
DTSTART;TZID="Europe/Berlin":20000205T090000
DTEND;TZID="Europe/Berlin":20000205T130000
LOCATION:Uni-Teil 1: Str. der Nationen 62\, Chemnitz (Böttcher-Bau)
SUMMARY:Über die Richtlinien des Ablaufes chemischer Reaktionen (Fakultät für Naturwissenschaften\, Institut für Chemie gemeinsam mit den Regionalschulämtern Chemnitz und Zwickau)
DESCRIPTION:2. Hauptsatz der Thermodynamik mit Experimenten\nProf. Dr. G. Marx\, Dr. G. Treffer\, Dipl.-Phys. P. Heger; TU-Chemnitz\nAnmeldung zu den Sonnabendveranstaltungen ist nicht erforderlich
ORGANIZER:MAILTO:erah@hrz.tu-chemnitz.de
UID:815@www.tu-chemnitz.de
CREATED:19991102T120800Z
DTSTAMP:20210802T203217Z
END:VEVENT
END:VCALENDAR
