BEGIN:VCALENDAR
VERSION:2.0
PRODID:TU Chemnitz
METHOD:PUBLISH
X-WR-CALNAME:Veranstaltungen der TU Chemnitz
X-WR-TIMEZONE:Europe/Berlin
BEGIN:VEVENT
CLASS:PUBLIC
DTSTART;TZID="Europe/Berlin":20070111T200000
DTEND;TZID="Europe/Berlin":20070111T235900
LOCATION:Vettersstr. 64/66\, Chemnitz (Studentenwohnheim)
SUMMARY:Neujahrskneipe
DESCRIPTION:Die St.V. Teutonia eröffnet das Jahr 2007.\nGäste sind herzlich willkommen.\nwww.teutonenweb.de
ORGANIZER:MAILTO:witsm@hrz.tu-chemnitz.de
UID:8141@www.tu-chemnitz.de
CREATED:20070108T211200Z
DTSTAMP:20210802T195115Z
END:VEVENT
END:VCALENDAR
