BEGIN:VCALENDAR
VERSION:2.0
PRODID:TU Chemnitz
METHOD:PUBLISH
X-WR-CALNAME:Veranstaltungen der TU Chemnitz
X-WR-TIMEZONE:Europe/Berlin
BEGIN:VEVENT
CLASS:PUBLIC
DTSTART;TZID="Europe/Berlin":20070103T200000
DTEND;TZID="Europe/Berlin":20070103T230000
LOCATION:Reichenhainer Str. 55\, Chemnitz (Mensa)
SUMMARY:Neujahrs 99-er-Kneipe
DESCRIPTION:Zur Begrüßung des neuen Jahres diesmal am Mittwoch die 99er Kneipe. Dart\, Airhockey\, Billard und Pokern kostenfrei.\nPokertische und Spielchips stellen wir natürlich zur Verfügung.  \nGünstige Getränke bspw. großes Bier vom Fass für 99 Cent.
ORGANIZER:MAILTO:piek@hrz.tu-chemnitz.de
UID:8113@www.tu-chemnitz.de
CREATED:20070102T155900Z
DTSTAMP:20210802T195117Z
END:VEVENT
END:VCALENDAR
