BEGIN:VCALENDAR
VERSION:2.0
PRODID:TU Chemnitz
METHOD:PUBLISH
X-WR-CALNAME:Veranstaltungen der TU Chemnitz
X-WR-TIMEZONE:Europe/Berlin
BEGIN:VEVENT
CLASS:PUBLIC
DTSTART;TZID="Europe/Berlin":20070225T130000
DTEND;TZID="Europe/Berlin":20070225T160000
LOCATION:Reichenhainer Str. 90\, Chemnitz (Zentr. Hörsaal- und Seminargebäude)
SUMMARY:Mikrowelten - Zukunftswelten: Eine Reise in die Mikrosystemtechnik (Fakultät für Maschinenbau\, CreativCenter Chemnitz)
DESCRIPTION:Interaktive multimediale Ausstellung winziger Bauteile u.konzentrierter Funktionalität. Eintritt: frei\n13:00 Vorträge "Mikrowelten 2007"\, Prof. Dr. Geßner; 14:00 "Nanowelt ist gigageil"\, Prof. Dr. Hietschold; Exponate des CreativCenters Chemnitz im Foyer\nKatja Wagner\, 0371/531-32918\, katja.wagner@mb.tu-chemnitz.de
ORGANIZER:MAILTO:jana.voigt@mb.tu-chemnitz.de
UID:8106@www.tu-chemnitz.de
CREATED:20061220T092000Z
DTSTAMP:20210802T195055Z
END:VEVENT
END:VCALENDAR
