BEGIN:VCALENDAR
VERSION:2.0
PRODID:TU Chemnitz
METHOD:PUBLISH
X-WR-CALNAME:Veranstaltungen der TU Chemnitz
X-WR-TIMEZONE:Europe/Berlin
BEGIN:VEVENT
CLASS:PUBLIC
DTSTART;TZID="Europe/Berlin":20070603T103000
DTEND;TZID="Europe/Berlin":20070603T113000
LOCATION:Reichenhainer Str. 90\, Chemnitz (Zentr. Hörsaal- und Seminargebäude)
SUMMARY:Pfiffikus-Kindervorlesung: "Ich glaub` \,mein Schwein pfeift" Coole Sprichwörter und witzige Redewendungen in der deutschen Sprache (Fakultät für Maschinenbau\, CreativeCenter Chemnitz)
DESCRIPTION:Anmeldung erforderlich. Für Kinder ist der Eintritt kostenfrei.\nFrantiska Tauber\, Studentin der Fremdsprachen in der Erwachsenenbildung/Verena Jahn\, Studentin der Medienkomm. an der TU Chemn.\nJana Voigt\, M.A.Tel. 0371/531 35558\, E-Mail: jana.voigt@mb.tu-chemnitz.de
ORGANIZER:MAILTO:jana.voigt@mb.tu-chemnitz.de
UID:8105@www.tu-chemnitz.de
CREATED:20061219T140600Z
DTSTAMP:20210802T194920Z
END:VEVENT
END:VCALENDAR
