BEGIN:VCALENDAR
VERSION:2.0
PRODID:TU Chemnitz
METHOD:PUBLISH
X-WR-CALNAME:Veranstaltungen der TU Chemnitz
X-WR-TIMEZONE:Europe/Berlin
BEGIN:VEVENT
CLASS:PUBLIC
DTSTART;TZID="Europe/Berlin":20070401T103000
DTEND;TZID="Europe/Berlin":20070401T113000
LOCATION:Reichenhainer Str. 90\, Chemnitz (Zentr. Hörsaal- und Seminargebäude)
SUMMARY:Pfiffikus-Kindervorlesung: Kleine Sportler ganz groß - auf die Plätze fertig los! (Fakultät für Maschinenbau\, CreativCenter Chemnitz)
DESCRIPTION:Anmeldung erforderlich. Für Kinder ist der Eintritt kostenfrei.\nKatrin Adler\, Wissenschaftliche Mitarbeiterin am Institut für Sportwissenschaft der TUC und Leiterin der Kindersportschule Ch.\nJana Voigt\, M.A.\, Tel. 0371/531 35558\, E-Mail: jana.voigt@mb.tu-chemnitz.de
ORGANIZER:MAILTO:jana.voigt@mb.tu-chemnitz.de
UID:8100@www.tu-chemnitz.de
CREATED:20061219T100300Z
DTSTAMP:20210802T195019Z
END:VEVENT
END:VCALENDAR
