BEGIN:VCALENDAR
VERSION:2.0
PRODID:TU Chemnitz
METHOD:PUBLISH
X-WR-CALNAME:Veranstaltungen der TU Chemnitz
X-WR-TIMEZONE:Europe/Berlin
BEGIN:VEVENT
CLASS:PUBLIC
DTSTART;TZID="Europe/Berlin":19991208T203000
DTEND;TZID="Europe/Berlin":19991208T220000
LOCATION:Uni-Teil 3: Reichenhainer Str. 70\, Chemnitz (Zentr. Hörsaal- und Seminargebäude)
SUMMARY:Weihnachtskonzert des Universitätschores (TU Chemnitz\, Philosophische Fakultät)
DESCRIPTION:Der Universitätschor singt in seinem Programm weihnachtliche und geistliche Chormusik.\nProf. C. Seibt\, HA 6376
ORGANIZER:MAILTO:conrad.seibt@phil.tu-chemnitz.de
UID:810@www.tu-chemnitz.de
CREATED:19991101T140800Z
DTSTAMP:20210802T203242Z
END:VEVENT
END:VCALENDAR
