BEGIN:VCALENDAR
VERSION:2.0
PRODID:TU Chemnitz
METHOD:PUBLISH
X-WR-CALNAME:Veranstaltungen der TU Chemnitz
X-WR-TIMEZONE:Europe/Berlin
BEGIN:VEVENT
CLASS:PUBLIC
DTSTART;TZID="Europe/Berlin":20070304T103000
DTEND;TZID="Europe/Berlin":20070304T120000
LOCATION:Stadtbibliothek Chemnitz
SUMMARY:Pfiffikus-Kindervorlesung: Warum erzählen wir Geschichten und wo findet man sie? (Fakultät für Maschinenbau\, CreativCenter Chemnitz)
DESCRIPTION:Anmeldung erforderlich. Für Kinder ist der Eintritt kostenfrei.\nKarin Ollesch und Ramona Fenger\, Bibliothekarinnen Stadtbibliothek Chemnitz Dr. Monika Hähnel\, Wiss. Mitarbeiterin TUC\nJana Voigt\, Tel. 0371/531 35558\, E-Mail: jana.voigt@mb.tu-chemnitz.de
ORGANIZER:MAILTO:jana.voigt@mb.tu-chemnitz.de
UID:8098@www.tu-chemnitz.de
CREATED:20061219T084400Z
DTSTAMP:20210802T195042Z
END:VEVENT
END:VCALENDAR
