BEGIN:VCALENDAR
VERSION:2.0
PRODID:TU Chemnitz
METHOD:PUBLISH
X-WR-CALNAME:Veranstaltungen der TU Chemnitz
X-WR-TIMEZONE:Europe/Berlin
BEGIN:VEVENT
CLASS:PUBLIC
DTSTART;TZID="Europe/Berlin":20061219T210000
DTEND;TZID="Europe/Berlin":20061219T230000
LOCATION:Kino\, Reichenhainer Str. 35/37\, Keller
SUMMARY:[Kino * "mittendrin"] Malen oder Lieben (Filmclub »mittendrin«)
DESCRIPTION:Welche Möglichkeiten stehen einem offen\, wenn man 30 Jahre verheiratet ist\, eben pensioniert wurde und in einer Sinnkrise steckt? Die Brüder Larrieu plädieren in ihrem Film «Peindre ou faire l'amour» vor allem für Streifzüge durchs Sinnlich-Erotische.
ORGANIZER:MAILTO:schneide@hrz.tu-chemnitz.de
UID:8094@www.tu-chemnitz.de
CREATED:20061218T162900Z
DTSTAMP:20210802T195136Z
END:VEVENT
END:VCALENDAR
